BEGIN:VCALENDAR
VERSION:2.0
PRODID:http://www.pg-bous-ensdorf.de
BEGIN:VEVENT
UID:f730446d-f4ec-11f0-8342-0242ac11002b-1777393800000-de
DTSTAMP:20260119T041144Z
DTSTART:20260428T163000Z
DTEND:20260428T171500Z
SUMMARY;LANGUAGE=de:Heilige Messe  besonders für die zuletzt Verstorbenen der Pfarrei:
END:VEVENT
END:VCALENDAR
