BEGIN:VCALENDAR
VERSION:2.0
PRODID:http://www.pg-bous-ensdorf.de
BEGIN:VEVENT
UID:b80bb30a-29e5-11f1-a21a-0242ac11002b-1778605200000-de
DTSTAMP:20260327T140323Z
DTSTART:20260512T170000Z
DTEND:20260512T183000Z
SUMMARY;LANGUAGE=de:Pfarrgemeinderat: Wahl des Verwaltungsrates (VR) unserer Kirchengemeinde
DESCRIPTION;LANGUAGE=de:Der Pfarrgemeinderat trifft sich im Anschluss an den Gottesdienst im Pfarrheim in Bous. Dabei wählt der Pfarrgemeinderat den neuen Verwaltungsrat. Es wurde vorschriftmäßig vorab ein Wahlausschuss gebildet\, der aus den folgenden drei Personen besteht:\nLukas Görgen (Vorsitzender)\nUlrike Soranna\nPfarrer Christian Müller\nGemäß dem erneuerten Kirchenvermögensverwaltungsgesetz (KVVG) sind in den Verwaltungsrat 6 Personen zu wählen. Wahlvorschläge dürfen von der Kirchengemeinde bis spätestens 21.04.2026 beim Wahlausschuss bzw. im Pfarrbüro abgegeben werden.
END:VEVENT
END:VCALENDAR
